BEGIN:VCALENDAR
VERSION:2.0
PRODID:-//Cinnaire - Advancing Communities - ECPv6.15.20//NONSGML v1.0//EN
CALSCALE:GREGORIAN
METHOD:PUBLISH
X-WR-CALNAME:Cinnaire - Advancing Communities
X-ORIGINAL-URL:https://cinnaire.com
X-WR-CALDESC:Events for Cinnaire - Advancing Communities
REFRESH-INTERVAL;VALUE=DURATION:PT1H
X-Robots-Tag:noindex
X-PUBLISHED-TTL:PT1H
BEGIN:VTIMEZONE
TZID:UTC
BEGIN:STANDARD
TZOFFSETFROM:+0000
TZOFFSETTO:+0000
TZNAME:UTC
DTSTART:20180101T000000
END:STANDARD
END:VTIMEZONE
BEGIN:VEVENT
DTSTART;VALUE=DATE:20190404
DTEND;VALUE=DATE:20190406
DTSTAMP:20260420T120712
CREATED:20190302T015147Z
LAST-MODIFIED:20230530T210243Z
UID:12729-1554336000-1554508799@cinnaire.com
SUMMARY:NCHMA Spring Meeting - Atlanta\, GA
DESCRIPTION:Attending: Sean Chapman\, Stephanie Dhar\, Nathan Dickinson\, Mark McDaniel and Zina Risk \nPanelist: Luan Nguyen\, Valuing Affordable Properties; Jeff Vitton\, Income Averaging
URL:https://cinnaire.com/event/nchma-spring-meeting-atlanta-ga-2-2/
END:VEVENT
BEGIN:VEVENT
DTSTART;VALUE=DATE:20190404
DTEND;VALUE=DATE:20190406
DTSTAMP:20260420T120712
CREATED:20190302T015147Z
LAST-MODIFIED:20190315T184711Z
UID:13048-1554336000-1554508799@cinnaire.com
SUMMARY:NCHMA Spring Meeting - Atlanta\, GA
DESCRIPTION:Attending: Sean Chapman\, Stephanie Dhar\, Nathan Dickinson\, Mark McDaniel and Zina Risk \nPanelist: Luan Nguyen\, Valuing Affordable Properties; Jeff Vitton\, Income Averaging
URL:https://cinnaire.com/event/nchma-spring-meeting-atlanta-ga-2/
END:VEVENT
BEGIN:VEVENT
DTSTART;VALUE=DATE:20190405
DTEND;VALUE=DATE:20190406
DTSTAMP:20260420T120712
CREATED:20190302T015257Z
LAST-MODIFIED:20230530T210244Z
UID:13049-1554422400-1554508799@cinnaire.com
SUMMARY:City of Anderson Fair Housing Conference - Anderson\, IN
DESCRIPTION:Attending: Keith Broadnax
URL:https://cinnaire.com/event/city-of-anderson-fair-housing-conference-anderson-in/
END:VEVENT
BEGIN:VEVENT
DTSTART;VALUE=DATE:20190409
DTEND;VALUE=DATE:20190410
DTSTAMP:20260420T120712
CREATED:20190302T015514Z
LAST-MODIFIED:20230530T210244Z
UID:13050-1554768000-1554854399@cinnaire.com
SUMMARY:NMTC Capitol Hill Fly-In and Briefing - Washington\, DC
DESCRIPTION:Attending: Peter Giles and Chris Neary
URL:https://cinnaire.com/event/nmtc-capitol-hill-fly-in-and-briefing-washington-dc/
END:VEVENT
BEGIN:VEVENT
DTSTART;VALUE=DATE:20190411
DTEND;VALUE=DATE:20190412
DTSTAMP:20260420T120712
CREATED:20190115T003346Z
LAST-MODIFIED:20230530T210233Z
UID:12730-1554940800-1555027199@cinnaire.com
SUMMARY:LISC MANDI Awards - Milwaukee\, WI
DESCRIPTION:Attending: David Helm\, Andrew Holloway\, Chris Jillings\, Karyn Knaak\, Chris Laurent and Jeff Vitton
URL:https://cinnaire.com/event/lisc-mandi-awards-milwaukee-wi/
END:VEVENT
BEGIN:VEVENT
DTSTART;VALUE=DATE:20190415
DTEND;VALUE=DATE:20190418
DTSTAMP:20260420T120712
CREATED:20190302T015701Z
LAST-MODIFIED:20230530T210245Z
UID:13051-1555286400-1555545599@cinnaire.com
SUMMARY:CEDAM Small Town & Rural Development Conference - Thompsonville\, MI
DESCRIPTION:Attending: Tom Edmiston
URL:https://cinnaire.com/event/cedam-small-town-rural-development-conference-thompsonville-mi/
END:VEVENT
BEGIN:VEVENT
DTSTART;VALUE=DATE:20190416
DTEND;VALUE=DATE:20190417
DTSTAMP:20260420T120712
CREATED:20190302T020206Z
LAST-MODIFIED:20230530T210245Z
UID:12684-1555372800-1555459199@cinnaire.com
SUMMARY:ULI Spring Meeting - Nashville\, TN
DESCRIPTION:Attending: James Dow\, Chris Laurent and Ed Potas
URL:https://cinnaire.com/event/uli-spring-meeting-nashville-tn-2-2/
END:VEVENT
BEGIN:VEVENT
DTSTART;VALUE=DATE:20190416
DTEND;VALUE=DATE:20190417
DTSTAMP:20260420T120712
CREATED:20190302T020206Z
LAST-MODIFIED:20190302T020206Z
UID:13052-1555372800-1555459199@cinnaire.com
SUMMARY:ULI Spring Meeting - Nashville\, TN
DESCRIPTION:Attending: James Dow\, Chris Laurent and Ed Potas
URL:https://cinnaire.com/event/uli-spring-meeting-nashville-tn-2/
END:VEVENT
BEGIN:VEVENT
DTSTART;VALUE=DATE:20190416
DTEND;VALUE=DATE:20190420
DTSTAMP:20260420T120712
CREATED:20190118T023720Z
LAST-MODIFIED:20230530T210236Z
UID:12760-1555372800-1555718399@cinnaire.com
SUMMARY:Content Marketing Conference 2019 - Boston\, MA
DESCRIPTION:Attending: Corinne Hyzny
URL:https://cinnaire.com/event/content-marketing-conference-2019-boston-ma/
END:VEVENT
BEGIN:VEVENT
DTSTART;VALUE=DATE:20190418
DTEND;VALUE=DATE:20190419
DTSTAMP:20260420T120712
CREATED:20190115T003458Z
LAST-MODIFIED:20230530T210234Z
UID:12731-1555545600-1555631999@cinnaire.com
SUMMARY:HDC MidAtlantic's A Home for Everyone - Lancaster\, PA
DESCRIPTION:Attending: Susan Frank\, Hughlett Kirby and Eugene Tull
URL:https://cinnaire.com/event/hdc-midatlantics-a-home-for-everyone-lancaster-pa/
END:VEVENT
BEGIN:VEVENT
DTSTART;VALUE=DATE:20190418
DTEND;VALUE=DATE:20190419
DTSTAMP:20260420T120712
CREATED:20190302T020304Z
LAST-MODIFIED:20230530T210246Z
UID:13053-1555545600-1555631999@cinnaire.com
SUMMARY:LISC Love Thy Neighborhood Awards - Indianapolis\, IN
DESCRIPTION:
URL:https://cinnaire.com/event/lisc-love-thy-neighborhood-awards-indianapolis-in/
END:VEVENT
BEGIN:VEVENT
DTSTART;TZID=UTC:20190419T080000
DTEND;TZID=UTC:20190419T170000
DTSTAMP:20260420T120712
CREATED:20190419T201613Z
LAST-MODIFIED:20230530T210258Z
UID:13196-1555660800-1555693200@cinnaire.com
SUMMARY:NH&RA Spring Developers Forum - Marina Del Ray\, CA
DESCRIPTION:Attending: James White
URL:https://cinnaire.com/event/nhra-spring-developers-forum-marina-del-ray-ca/
END:VEVENT
BEGIN:VEVENT
DTSTART;VALUE=DATE:20190423
DTEND;VALUE=DATE:20190424
DTSTAMP:20260420T120712
CREATED:20190202T015508Z
LAST-MODIFIED:20230530T210238Z
UID:12834-1555977600-1556063999@cinnaire.com
SUMMARY:Michigan Housing Council Spring Conference & Annual Meeting - Lansing\, MI
DESCRIPTION:Attending: Ashlee Barker\, Jennifer Everhart\, Michelle Foster\, Jim Logue\, Mary Manuel\, Mark McDaniel and Luan Nguyen \nPanelist: Rick Laber
URL:https://cinnaire.com/event/michigan-housing-council-spring-conference-annual-meeting-lansing-mi/
END:VEVENT
BEGIN:VEVENT
DTSTART;VALUE=DATE:20190423
DTEND;VALUE=DATE:20190424
DTSTAMP:20260420T120712
CREATED:20190419T192645Z
LAST-MODIFIED:20230530T210256Z
UID:13189-1555977600-1556063999@cinnaire.com
SUMMARY:Women's Power Breakfast - Detroit\, MI
DESCRIPTION:Attending: Jela Ellefson
URL:https://cinnaire.com/event/womens-power-breakfast-detroit-mi/
END:VEVENT
BEGIN:VEVENT
DTSTART;VALUE=DATE:20190424
DTEND;VALUE=DATE:20190425
DTSTAMP:20260420T120712
CREATED:20190302T020410Z
LAST-MODIFIED:20230530T210246Z
UID:13054-1556064000-1556150399@cinnaire.com
SUMMARY:Crain's Detroit Real Estate Next: The Retail Landscape - Detroit\, MI
DESCRIPTION:Attending: Wayne Bota\, Yulonda Byrd and Dave Levinson
URL:https://cinnaire.com/event/crains-detroit-real-estate-next-the-retail-landscape-detroit-mi/
END:VEVENT
BEGIN:VEVENT
DTSTART;VALUE=DATE:20190425
DTEND;VALUE=DATE:20190427
DTSTAMP:20260420T120712
CREATED:20190302T020611Z
LAST-MODIFIED:20230530T210247Z
UID:13055-1556150400-1556323199@cinnaire.com
SUMMARY:Novogradac Opportunity Zones Spring Conference - Denver\, CO
DESCRIPTION:Attending: Ashlee Barker\, Rick Laber\, Vicki Mincey and Ben Stehouwer
URL:https://cinnaire.com/event/novogradac-opportunity-zones-spring-conference-denver-co/
END:VEVENT
BEGIN:VEVENT
DTSTART;VALUE=DATE:20190426
DTEND;VALUE=DATE:20190427
DTSTAMP:20260420T120712
CREATED:20190419T192935Z
LAST-MODIFIED:20230530T210256Z
UID:13190-1556236800-1556323199@cinnaire.com
SUMMARY:HOND Annual Fair Housing Observance Awards Luncheon - Wilmington\, DE
DESCRIPTION:Attending: Susan Frank\, Hughlett Kirby\, Dionna Sargent and Eugene Tull
URL:https://cinnaire.com/event/hond-annual-fair-housing-observance-awards-luncheon-wilmington-de/
END:VEVENT
BEGIN:VEVENT
DTSTART;VALUE=DATE:20190429
DTEND;VALUE=DATE:20190501
DTSTAMP:20260420T120712
CREATED:20190419T195109Z
LAST-MODIFIED:20190419T195109Z
UID:13191-1556496000-1556668799@cinnaire.com
SUMMARY:ULI Spring Real Estate Summit - Detroit\, MI
DESCRIPTION:Attending: Wayne Bota\, Chris Laurent\, and Ed Potas
URL:https://cinnaire.com/event/uli-spring-real-estate-summit-detroit-mi-2/
END:VEVENT
BEGIN:VEVENT
DTSTART;VALUE=DATE:20190429
DTEND;VALUE=DATE:20190501
DTSTAMP:20260420T120712
CREATED:20190419T195109Z
LAST-MODIFIED:20230530T210256Z
UID:13092-1556496000-1556668799@cinnaire.com
SUMMARY:ULI Spring Real Estate Summit - Detroit\, MI
DESCRIPTION:Attending: Wayne Bota\, Chris Laurent\, and Ed Potas
URL:https://cinnaire.com/event/uli-spring-real-estate-summit-detroit-mi-2-2/
END:VEVENT
BEGIN:VEVENT
DTSTART;VALUE=DATE:20190430
DTEND;VALUE=DATE:20190501
DTSTAMP:20260420T120712
CREATED:20190419T200912Z
LAST-MODIFIED:20230530T210257Z
UID:13193-1556582400-1556668799@cinnaire.com
SUMMARY:CEDAM Annual Membership Event - Lansing\, MI
DESCRIPTION:Attending: Ashlee Barker and Mark McDaniel
URL:https://cinnaire.com/event/cedam-annual-membership-event-lansing-mi/
END:VEVENT
BEGIN:VEVENT
DTSTART;VALUE=DATE:20190430
DTEND;VALUE=DATE:20190503
DTSTAMP:20260420T120712
CREATED:20181130T191759Z
LAST-MODIFIED:20230530T210225Z
UID:12609-1556582400-1556841599@cinnaire.com
SUMMARY:CSH Summit - Indianapolis\, IN
DESCRIPTION:Attending: Bob Beck\, Keith Broadnax\, David Helm and Katie Vondra
URL:https://cinnaire.com/event/csh-summit-indianapolis/
END:VEVENT
BEGIN:VEVENT
DTSTART;VALUE=DATE:20190501
DTEND;VALUE=DATE:20190502
DTSTAMP:20260420T120712
CREATED:20190419T201416Z
LAST-MODIFIED:20230530T210257Z
UID:13194-1556668800-1556755199@cinnaire.com
SUMMARY:MHDC Annual Breakfast - Milford\, DE
DESCRIPTION:Attending: Susan Frank\, Hughlett Kirby and Krista Wriston
URL:https://cinnaire.com/event/mhdc-annual-breakfast-milford-de/
END:VEVENT
BEGIN:VEVENT
DTSTART;VALUE=DATE:20190502
DTEND;VALUE=DATE:20190503
DTSTAMP:20260420T120712
CREATED:20190419T201530Z
LAST-MODIFIED:20230530T210258Z
UID:13195-1556755200-1556841599@cinnaire.com
SUMMARY:GLFB Empty Plate Dinner - Lansing\, MI
DESCRIPTION:Attending: Luan Nguyen
URL:https://cinnaire.com/event/glfb-empty-plate-dinner-lansing-mi/
END:VEVENT
BEGIN:VEVENT
DTSTART;VALUE=DATE:20190508
DTEND;VALUE=DATE:20190510
DTSTAMP:20260420T120712
CREATED:20190115T003925Z
LAST-MODIFIED:20230530T210234Z
UID:12733-1557273600-1557446399@cinnaire.com
SUMMARY:PHFA Commonwealth Housing Forum - Harrisburg\, PA
DESCRIPTION:Attending: Hughlett Kirby and Eugene Tull
URL:https://cinnaire.com/event/phfa-commonwealth-housing-forum-harrisburg-pa/
END:VEVENT
BEGIN:VEVENT
DTSTART;VALUE=DATE:20190509
DTEND;VALUE=DATE:20190510
DTSTAMP:20260420T120712
CREATED:20190115T004023Z
LAST-MODIFIED:20230530T210235Z
UID:12734-1557360000-1557446399@cinnaire.com
SUMMARY:LISC Chicago Neighborhood Development Awards - Chicago\, IL
DESCRIPTION:Attending: Keith Broadnax\, Karyn Knaak\, Ruqayyah Polk\, Zina Risk\, Beto Sanchez\, Ainsworth Thompson and Jeff Vitton
URL:https://cinnaire.com/event/lisc-chicago-neighborhood-development-awards-chicago-il/
END:VEVENT
BEGIN:VEVENT
DTSTART;VALUE=DATE:20190509
DTEND;VALUE=DATE:20190510
DTSTAMP:20260420T120712
CREATED:20190115T004107Z
LAST-MODIFIED:20230530T210235Z
UID:12735-1557360000-1557446399@cinnaire.com
SUMMARY:CHN's Bring It Home - Troy\, MI
DESCRIPTION:Attending: Tom Edmiston\, Mark Erickson\, Michelle Foster and Katie Vondra
URL:https://cinnaire.com/event/chn-bring-it-home-troy-mi/
END:VEVENT
BEGIN:VEVENT
DTSTART;VALUE=DATE:20190509
DTEND;VALUE=DATE:20190510
DTSTAMP:20260420T120712
CREATED:20190314T224032Z
LAST-MODIFIED:20230530T210250Z
UID:13094-1557360000-1557446399@cinnaire.com
SUMMARY:Wilmington Renaissance Corporation Big Ideas - Troy\, MI
DESCRIPTION:Attending: Dionna Sargent
URL:https://cinnaire.com/event/wilmington-renaissance-corporation-big-ideas-troy-mi/
END:VEVENT
BEGIN:VEVENT
DTSTART;VALUE=DATE:20190513
DTEND;VALUE=DATE:20190516
DTSTAMP:20260420T120712
CREATED:20190314T224257Z
LAST-MODIFIED:20230530T210250Z
UID:13096-1557705600-1557964799@cinnaire.com
SUMMARY:Sage Summit - Atlanta\, GA
DESCRIPTION:Attending: Latrichia Henry and Vicky Searles
URL:https://cinnaire.com/event/sage-summit-atlanta-ga/
END:VEVENT
BEGIN:VEVENT
DTSTART;VALUE=DATE:20190513
DTEND;VALUE=DATE:20190516
DTSTAMP:20260420T120712
CREATED:20190419T202249Z
LAST-MODIFIED:20230530T210259Z
UID:13198-1557705600-1557964799@cinnaire.com
SUMMARY:NMTC Summit - Miami Beach\, FL
DESCRIPTION:Attending: Peter Giles\, Max Novak and Nathan Woltjer
URL:https://cinnaire.com/event/nmtc-summit-miami-beach-fl/
END:VEVENT
BEGIN:VEVENT
DTSTART;VALUE=DATE:20190515
DTEND;VALUE=DATE:20190516
DTSTAMP:20260420T120712
CREATED:20190419T215122Z
LAST-MODIFIED:20230530T210300Z
UID:13199-1557878400-1557964799@cinnaire.com
SUMMARY:MI Athena Conference - Lansing\, MI
DESCRIPTION:Attending: Ashlee Barker\, Kristin Bolan\, Tom Edmiston and Mary Manuel
URL:https://cinnaire.com/event/mi-athena-conference-lansing-mi-2-2/
END:VEVENT
END:VCALENDAR